
BEGIN:VCALENDAR
VERSION:2.0
PRODID:-//San Jose Chinese Catholic Mission - ECPv4.9.4//NONSGML v1.0//EN
CALSCALE:GREGORIAN
METHOD:PUBLISH
X-WR-CALNAME:San Jose Chinese Catholic Mission
X-ORIGINAL-URL:https://sjccm.com
X-WR-CALDESC:Events for San Jose Chinese Catholic Mission
BEGIN:VTIMEZONE
TZID:"America/Los_Angeles"
BEGIN:DAYLIGHT
TZOFFSETFROM:-0800
TZOFFSETTO:-0700
TZNAME:PDT
DTSTART:20190310T100000
END:DAYLIGHT
BEGIN:STANDARD
TZOFFSETFROM:-0700
TZOFFSETTO:-0800
TZNAME:PST
DTSTART:20191103T090000
END:STANDARD
END:VTIMEZONE
BEGIN:VEVENT
DTSTART;TZID="America/Los_Angeles":20191215T161500
DTEND;TZID="America/Los_Angeles":20191215T181500
DTSTAMP:20260423T103338
CREATED:20191128T041301Z
LAST-MODIFIED:20191208T205525Z
UID:9130-1576426500-1576433700@sjccm.com
SUMMARY:韓大煇總主教 信仰講座 12/15/2019
DESCRIPTION:韩大煇总主教 信仰讲座 12/15/2019 \n主题：福音照耀中国\n时间：12月15日 弥撒后\n地点：St. Clare Lower Church \n今年加州天主教教务会议 （California Catholic Ministry Conference）国语分组讲座的讲师韩大煇总主教将于12月15日拜访我们的团体，主祭弥撒和带领信仰讲座。 \nWe are honored to welcome Archbishop Savio Hon\, SDB\, who will visit our Mission to celebrate Sunday Mass at 3 PM on December 15th. After the Mass\, he will lead a conference in the Lower Church\, the theme is 福音照耀中国。 \n
URL:/event/bishop-hon-faith-seminar-12-15-2019/
END:VEVENT
END:VCALENDAR