
BEGIN:VCALENDAR
VERSION:2.0
PRODID:-//San Jose Chinese Catholic Mission - ECPv4.9.4//NONSGML v1.0//EN
CALSCALE:GREGORIAN
METHOD:PUBLISH
X-WR-CALNAME:San Jose Chinese Catholic Mission
X-ORIGINAL-URL:https://sjccm.com
X-WR-CALDESC:Events for San Jose Chinese Catholic Mission
BEGIN:VTIMEZONE
TZID:"America/Los_Angeles"
BEGIN:DAYLIGHT
TZOFFSETFROM:-0800
TZOFFSETTO:-0700
TZNAME:PDT
DTSTART:20200308T100000
END:DAYLIGHT
BEGIN:STANDARD
TZOFFSETFROM:-0700
TZOFFSETTO:-0800
TZNAME:PST
DTSTART:20201101T090000
END:STANDARD
END:VTIMEZONE
BEGIN:VEVENT
DTSTART;TZID="America/Los_Angeles":20200111T093000
DTEND;TZID="America/Los_Angeles":20200111T160000
DTSTAMP:20260423T102209
CREATED:20191122T175439Z
LAST-MODIFIED:20191218T200935Z
UID:9082-1578735000-1578758400@sjccm.com
SUMMARY:SJCCM 信仰加油站 1/11/2020
DESCRIPTION:SJCCM 信仰加油站\n主题： 圣神必要教训你们一切，也要使你们想起，我对你们所说的一切。（若十四26）\n主办﹕ SJCCM – 圣荷西华人天主教会\n对象﹕ 教友、非教友、及渴望认识天主者\n地点： St. Clare’s Church (Parish Hall)\n(941 Lexington St\, Santa Clara\, CA 95050)\n主领： 主僕疏效平\n报名： 王培琳，Tel：408-929-5131， lillian@m4christ.net\n孙乐芬，Tel：408-996-7830，lehfensun@yahoo.com\n午餐费10元，如需要订购敬请在报名时通知。为方便准备及统计人数，鼓励先报名。 \n  \n\n\n\n\n\n\n9:30 报到\n\n\n9:45 主办单位展开序幕\n\n\n9:50 到主跟前来(疏效平)\n\n\n10:00 赞美与敬拜(李家欣)\n\n\n10:30 圣神必要教训你们一切，也要使你们想起，我对你们所说的一切。（若十四26）（疏效平）\n\n\n11:30 休息\n\n\n11:50 赞美与敬拜(李家欣)\n\n\n12:00见证一(梁兆祺)\n\n\n12:20圣言与祈祷(疏效平)\n\n\n12:30中餐\n\n\n13:30赞美与敬拜(李家欣)\n\n\n14:00见证二(江嵩)\n\n\n14:20圣言与祈祷(疏效平)\n\n\n14:40休息\n\n\n15:00赞美与敬拜(李家欣)\n\n\n15:10见证(参与者)\n\n\n15:40圣言与祈祷(疏效平)\n\n\n15:50主办单位总结\n\n\n16:00带着主恩归\n\n\n\n
URL:/event/sjccm-shu-xiao-ping-faith-seminar-1-11-2020/
CATEGORIES:信仰加油站
END:VEVENT
END:VCALENDAR