
BEGIN:VCALENDAR
VERSION:2.0
PRODID:-//San Jose Chinese Catholic Mission - ECPv4.9.4//NONSGML v1.0//EN
CALSCALE:GREGORIAN
METHOD:PUBLISH
X-WR-CALNAME:San Jose Chinese Catholic Mission
X-ORIGINAL-URL:https://sjccm.com
X-WR-CALDESC:Events for San Jose Chinese Catholic Mission
BEGIN:VTIMEZONE
TZID:"America/Los_Angeles"
BEGIN:DAYLIGHT
TZOFFSETFROM:-0800
TZOFFSETTO:-0700
TZNAME:PDT
DTSTART:20180311T100000
END:DAYLIGHT
BEGIN:STANDARD
TZOFFSETFROM:-0700
TZOFFSETTO:-0800
TZNAME:PST
DTSTART:20181104T090000
END:STANDARD
END:VTIMEZONE
BEGIN:VEVENT
DTSTART;TZID="America/Los_Angeles":20181201T093000
DTEND;TZID="America/Los_Angeles":20181201T160000
DTSTAMP:20260423T144253
CREATED:20180906T003431Z
LAST-MODIFIED:20180906T003431Z
UID:7726-1543656600-1543680000@sjccm.com
SUMMARY:SJCCM 信仰加油站 12/1/2018
DESCRIPTION:主题： 圣神也扶助我们的软弱，亲自以无可言喻的叹息，代我们转求。（罗八26）\n主办﹕ SJCCM – 圣荷西华人天主教会\n对象﹕ 教友、非教友、及渴望认识天主者\n地点： St. Clare’s Church (Parish Hall)\n(941 Lexington St\, Santa Clara\, CA 95050)\n主领： 主僕疏效平\n报名： 江嵩，Tel：408-391-9953，******* ，\n王培琳，Tel：408-929-5131， *******\n午餐费8元，如需要订购敬请在报名时通知。为方便准备及统计人数，鼓励先报名。 \n\n\n\n\n\n\n9:30    报到\n\n\n9:45   主办单位展开序幕\n\n\n9:50     到主跟前来(疏效平)\n\n\n10:00  赞美与敬拜(李家欣)\n\n\n10:30  第一讲：圣神扶助我们的软弱，亲自以无可言喻的叹息，代我们转求。（罗八26）（疏效平）\n\n\n11:30   休息\n\n\n11:50   赞美与敬拜(李家欣)\n\n\n12:00  见证(杨文智)\n\n\n12:20  圣言与祈祷(疏效平)\n\n\n12:30  中餐\n\n\n13:30  赞美与敬拜(李家欣)\n\n\n14:20  休息\n\n\n14:40  圣神内领洗、治癒、释放覆手祈祷(疏效平与服务组)\n\n\n15:50  主办单位总结\n\n\n16:00  带着主恩归\n\n\n\n
URL:/event/shu-xiao-ping-seminar-20181201/
CATEGORIES:信仰加油站
END:VEVENT
END:VCALENDAR